BEGIN:VCALENDAR
VERSION:2.0
PRODID:-//skghagen.de - ECPv6.2.1//NONSGML v1.0//EN
CALSCALE:GREGORIAN
METHOD:PUBLISH
X-ORIGINAL-URL:https://skghagen.de
X-WR-CALDESC:Veranstaltungen für skghagen.de
REFRESH-INTERVAL;VALUE=DURATION:PT1H
X-Robots-Tag:noindex
X-PUBLISHED-TTL:PT1H
BEGIN:VTIMEZONE
TZID:Europe/Berlin
BEGIN:DAYLIGHT
TZOFFSETFROM:+0100
TZOFFSETTO:+0200
TZNAME:CEST
DTSTART:20260329T010000
END:DAYLIGHT
BEGIN:STANDARD
TZOFFSETFROM:+0200
TZOFFSETTO:+0100
TZNAME:CET
DTSTART:20261025T010000
END:STANDARD
END:VTIMEZONE
BEGIN:VEVENT
DTSTART;TZID=Europe/Berlin:20260422T150000
DTEND;TZID=Europe/Berlin:20260422T170000
DTSTAMP:20260422T115951
CREATED:20260110T200747Z
LAST-MODIFIED:20260110T200747Z
UID:13921-1776870000-1776877200@skghagen.de
SUMMARY:Evangelische Frauenhilfe
DESCRIPTION:
URL:https://skghagen.de/termin/evangelische-frauenhilfe-15/
LOCATION:Markusgemeindehaus\, Rheinstraße 26\, 58097 Hagen\, Rheinstraß2 26\, Hagen\, NRW\, 58097\, Deutschland
CATEGORIES:Gemeinschaft
END:VEVENT
BEGIN:VEVENT
DTSTART;TZID=Europe/Berlin:20260423T160000
DTEND;TZID=Europe/Berlin:20260423T170000
DTSTAMP:20260422T115951
CREATED:20260126T141917Z
LAST-MODIFIED:20260126T144215Z
UID:14054-1776960000-1776963600@skghagen.de
SUMMARY:Gottesdienst
DESCRIPTION:
URL:https://skghagen.de/termin/gottesdienst-139/
LOCATION:Kapelle des Ev. Krankenhauses Hagen-Haspe\, Brusebrinkstr. 22\, Hagen\, NRW\, 58135\, Deutschland
CATEGORIES:Gottesdienst
ATTACH;FMTTYPE=image/jpeg:https://skghagen.de/wp-content/uploads/2025/07/Kapelle-Ev-KH-Haspe.jpeg
END:VEVENT
BEGIN:VEVENT
DTSTART;TZID=Europe/Berlin:20260423T190000
DTEND;TZID=Europe/Berlin:20260423T210000
DTSTAMP:20260422T115951
CREATED:20260319T201445Z
LAST-MODIFIED:20260319T201445Z
UID:14124-1776970800-1776978000@skghagen.de
SUMMARY:Glaubensgespräche
DESCRIPTION:
URL:https://skghagen.de/termin/glaubensgespraeche-2/
LOCATION:Tattoo-Café Buntspecht\, Langestraße 98\, Hagen\, NRW\, 58089\, Deutschland
CATEGORIES:Gemeinschaft
ATTACH;FMTTYPE=image/jpeg:https://skghagen.de/wp-content/uploads/2026/03/20260416-Glaubensgespraeche.jpeg
END:VEVENT
BEGIN:VEVENT
DTSTART;TZID=Europe/Berlin:20260424T200000
DTEND;TZID=Europe/Berlin:20260424T210000
DTSTAMP:20260422T115951
CREATED:20260317T193816Z
LAST-MODIFIED:20260317T193816Z
UID:14118-1777060800-1777064400@skghagen.de
SUMMARY:Kneipengottesdienst
DESCRIPTION:
URL:https://skghagen.de/termin/kneipengottesdienst/
LOCATION:Jekyll & Hyde\, Kampstraße 24A\, Hagen\, NRW\, 58095\, Deutschland
CATEGORIES:Gemeinschaft,Gottesdienst
ATTACH;FMTTYPE=image/jpeg:https://skghagen.de/wp-content/uploads/2026/03/20260424-Kneipengottesdienst-1.jpeg
END:VEVENT
BEGIN:VEVENT
DTSTART;TZID=Europe/Berlin:20260425T110000
DTEND;TZID=Europe/Berlin:20260425T123000
DTSTAMP:20260422T115951
CREATED:20260126T145108Z
LAST-MODIFIED:20260420T110633Z
UID:14064-1777114800-1777120200@skghagen.de
SUMMARY:Matinee mit Andacht
DESCRIPTION:Durst nach Klängen \nEin Konzert mit Flötist Howard Cohen und Organist und Pianist Martin Brödemann\nAm  Samstag\, den 25.04.\, lädt die Johanniskirche Hagen im Rahmen der beliebten „Matineen zur Marktzeit“ zu einem Konzert mit Werken aus Barock und Gegenwart ein. Zu Gast sind Flötist Howard Cohen und Organist und Pianist Martin Brödemann. \nVorfreude – ist das überhaupt zeitgemäß inmitten von Kriegs- und Katastrophenmeldungen? Dennoch steht der Frühling vor der Tür\, wie nach jedem Winter erwacht die Welt zu neuem Leben. Vorfreude auf mehr Helligkeit und Wärme wird zu Klang und füllt den Kirchenraum in einem Programm\, das einen Bogen vom Barock bis in die heutige Zeit spannt. Flötist Howard Cohen und Pianist und Organist Martin Brödemann spielen seit mehr als einem Jahrzehnt zusammen und haben ein beeindruckendes Repertoire auf Abruf bereit. Der gesangvolle und warme Ton von Cohens Flöte berührt in leisen Passagen und ist gleichzeitig mitreißend. Gemeinsam fühlen die beiden Musiker den Klangräumen nach\, die beim Zusammenwirken von Orgel und Flöte\, oder Flöte und Klavier entstehen. \nDas Konzert in der Johanniskirche Hagen\, Frankfurter Straße 100\, findet wie immer um 11 Uhr statt und dauert ca. eine Stunde. Der Eintritt ist frei\, um Spenden für die Künstler wird gebeten.
URL:https://skghagen.de/termin/matinee-und-im-anschluss-mittagsandacht-27/
LOCATION:Johanniskirche\, Frankfurter Straße 100\, 58095\, Hagen
CATEGORIES:Andacht,Konzert
END:VEVENT
BEGIN:VEVENT
DTSTART;TZID=Europe/Berlin:20260426T110000
DTEND;TZID=Europe/Berlin:20260426T120000
DTSTAMP:20260422T115951
CREATED:20260126T150519Z
LAST-MODIFIED:20260126T150519Z
UID:14078-1777201200-1777204800@skghagen.de
SUMMARY:Gottesdienst mit Abendmahl
DESCRIPTION:
URL:https://skghagen.de/termin/gottesdienst-mit-abendmahl-58/
LOCATION:Markuskirche\, Rheinstraße 26\, 58097\, Hagen\, Rheinstr. 26\, Hagen\, NRW\, 58097\, Germany
CATEGORIES:Gottesdienst
END:VEVENT
BEGIN:VEVENT
DTSTART;TZID=Europe/Berlin:20260426T150000
DTEND;TZID=Europe/Berlin:20260426T170000
DTSTAMP:20260422T115951
CREATED:20260110T203923Z
LAST-MODIFIED:20260110T204659Z
UID:13956-1777215600-1777222800@skghagen.de
SUMMARY:Seniorengeburtstagsfeier
DESCRIPTION:Sie sind herzlich eingeladen zur Seniorengeburtstagsfeier am Sonntag\, 26.04.2026\, um 15:00 Uhr \nin der Johanniskirche\, Frankfurter Str. 100\, 58095 Hagen \nFreuen Sie sich auf ein gemeinsames Kaffeetrinken und ein buntes Programm. \n  \nAnmeldungen bitte bis 16.04.2026 an \nEv.-luth. Stadtkirchengemeinde \nCarola Nitschke\, Tel.-Nr. 02331– 83929
URL:https://skghagen.de/termin/seniorengeburtstagsfeier-2/
LOCATION:Johanniskirche\, Frankfurter Straße 100\, 58095\, Hagen
CATEGORIES:Fest,Gemeinschaft,Veranstaltung
END:VEVENT
BEGIN:VEVENT
DTSTART;TZID=Europe/Berlin:20260430T160000
DTEND;TZID=Europe/Berlin:20260430T170000
DTSTAMP:20260422T115951
CREATED:20260126T144348Z
LAST-MODIFIED:20260126T144348Z
UID:14056-1777564800-1777568400@skghagen.de
SUMMARY:Gottesdienst
DESCRIPTION:
URL:https://skghagen.de/termin/gottesdienst-140/
LOCATION:Kapelle des Ev. Krankenhauses Hagen-Haspe\, Brusebrinkstr. 22\, Hagen\, NRW\, 58135\, Deutschland
CATEGORIES:Gottesdienst
ATTACH;FMTTYPE=image/jpeg:https://skghagen.de/wp-content/uploads/2025/07/Kapelle-Ev-KH-Haspe.jpeg
END:VEVENT
BEGIN:VEVENT
DTSTART;TZID=Europe/Berlin:20260430T190000
DTEND;TZID=Europe/Berlin:20260430T210000
DTSTAMP:20260422T115951
CREATED:20260319T201604Z
LAST-MODIFIED:20260319T201604Z
UID:14126-1777575600-1777582800@skghagen.de
SUMMARY:Glaubensgespräche
DESCRIPTION:
URL:https://skghagen.de/termin/glaubensgespraeche-3/
LOCATION:Tattoo-Café Buntspecht\, Langestraße 98\, Hagen\, NRW\, 58089\, Deutschland
CATEGORIES:Gemeinschaft
ATTACH;FMTTYPE=image/jpeg:https://skghagen.de/wp-content/uploads/2026/03/20260416-Glaubensgespraeche.jpeg
END:VEVENT
END:VCALENDAR