BEGIN:VCALENDAR
VERSION:2.0
PRODID:-//skghagen.de - ECPv6.2.1//NONSGML v1.0//EN
CALSCALE:GREGORIAN
METHOD:PUBLISH
X-ORIGINAL-URL:https://skghagen.de
X-WR-CALDESC:Veranstaltungen für skghagen.de
REFRESH-INTERVAL;VALUE=DURATION:PT1H
X-Robots-Tag:noindex
X-PUBLISHED-TTL:PT1H
BEGIN:VTIMEZONE
TZID:Europe/Berlin
BEGIN:DAYLIGHT
TZOFFSETFROM:+0100
TZOFFSETTO:+0200
TZNAME:CEST
DTSTART:20210328T010000
END:DAYLIGHT
BEGIN:STANDARD
TZOFFSETFROM:+0200
TZOFFSETTO:+0100
TZNAME:CET
DTSTART:20211031T010000
END:STANDARD
END:VTIMEZONE
BEGIN:VEVENT
DTSTART;TZID=Europe/Berlin:20210912T110000
DTEND;TZID=Europe/Berlin:20210912T120000
DTSTAMP:20260422T004936
CREATED:20210813T213218Z
LAST-MODIFIED:20210912T031744Z
UID:9766-1631444400-1631448000@skghagen.de
SUMMARY:Gottesdienst
DESCRIPTION:Unter Beachtung der aktuellen CoronaSchVO
URL:https://skghagen.de/termin/gottesdienst-19/
CATEGORIES:Gottesdienst
END:VEVENT
BEGIN:VEVENT
DTSTART;TZID=Europe/Berlin:20210912T110000
DTEND;TZID=Europe/Berlin:20210912T120000
DTSTAMP:20260422T004936
CREATED:20210813T213219Z
LAST-MODIFIED:20210912T031744Z
UID:9767-1631444400-1631448000@skghagen.de
SUMMARY:Gottesdienst mit Abendmahl
DESCRIPTION:Unter Beachtung der aktuellen CoronaSchVO
URL:https://skghagen.de/termin/gottesdienst-mit-abendmahl-5/
CATEGORIES:Gottesdienst
END:VEVENT
END:VCALENDAR