BEGIN:VCALENDAR
VERSION:2.0
PRODID:-//skghagen.de - ECPv6.2.1//NONSGML v1.0//EN
CALSCALE:GREGORIAN
METHOD:PUBLISH
X-ORIGINAL-URL:https://skghagen.de
X-WR-CALDESC:Veranstaltungen für skghagen.de
REFRESH-INTERVAL;VALUE=DURATION:PT1H
X-Robots-Tag:noindex
X-PUBLISHED-TTL:PT1H
BEGIN:VTIMEZONE
TZID:Europe/Berlin
BEGIN:DAYLIGHT
TZOFFSETFROM:+0100
TZOFFSETTO:+0200
TZNAME:CEST
DTSTART:20210328T010000
END:DAYLIGHT
BEGIN:STANDARD
TZOFFSETFROM:+0200
TZOFFSETTO:+0100
TZNAME:CET
DTSTART:20211031T010000
END:STANDARD
END:VTIMEZONE
BEGIN:VEVENT
DTSTART;TZID=Europe/Berlin:20210919T110000
DTEND;TZID=Europe/Berlin:20210919T120000
DTSTAMP:20260424T141857
CREATED:20210820T224531Z
LAST-MODIFIED:20210919T042727Z
UID:9779-1632049200-1632052800@skghagen.de
SUMMARY:Gottesdienst mit KU 7
DESCRIPTION:Unter Beachtung der aktuellen CoronaSchVO
URL:https://skghagen.de/termin/gottesdienst-mit-ku-7-2/
CATEGORIES:Gottesdienst
END:VEVENT
BEGIN:VEVENT
DTSTART;TZID=Europe/Berlin:20210919T173000
DTEND;TZID=Europe/Berlin:20210919T173000
DTSTAMP:20260424T141857
CREATED:20200928T151232Z
LAST-MODIFIED:20201211T165019Z
UID:6488-1632072600-1632072600@skghagen.de
SUMMARY:Handorgel-Solokonzert
DESCRIPTION:Ein besonderes Hörerlebnis verspricht Handorgel-Solokonzert am Sonntag\, 19. September 2021 um 17:00 Uhr in der Ev.-luth. Johanniskirche am Markt\, Johanniskirchplatz 10\, 58095 Hagen mit dem Akkordeon-Virtuosen Alexandre Bytchkov. Eintritt ist frei\, um eine Spende wird gebeten. \nDer bekannte Akkordeonvirtuose und Preisträger nationaler und internationaler Wettbewerbe\, u.a. zweifacher Deutscher Akkordeonmeister\, präsentiert die breite Palette der Möglichkeiten des Akkordeons\, das in unseren Breiten oft nur aus der Volksmusik bekannt ist. Nicht so in anderen Ländern. Alexandre Bytchkov entführt den Zuhörer in unterschiedlichste Musikwelten und entfacht auf dem Akkordeon ein wahres Feuerwerk mit hohem künstlerischem Anspruch. Der Musiker spielt Werke von J. S. Bach\, A. Vivaldi\, D. Scarlatti\, A. Piazzolla\, R. Galliano und russische Musik. Ein Vortrag\, der unter die Haut geht und den man noch lange in seinem Herzen mit sich trägt. \nDer Künstler stammt aus Sankt Petersburg (Russland) und lebt mit seiner Familie seit einigen Jahren in Mainz. Innerhalb kurzer Zeit hat er sich auch in Deutschland einen Namen als herausragender Musiker gemacht. \nwww.alexandre-bytchkov.de \nwww.skg-hagen.de \nWir freuen uns auf Ihren Besuch.
URL:https://skghagen.de/termin/handorgel-solokonzert/
LOCATION:Johanniskirche\, Frankfurter Straße 100\, 58095\, Hagen\, Frankfurter Str. 100\, Hagen\, NRW\, 58095\, Deutschland
CATEGORIES:Kultur,Veranstaltung
END:VEVENT
END:VCALENDAR