BEGIN:VCALENDAR
VERSION:2.0
PRODID:-//skghagen.de - ECPv6.2.1//NONSGML v1.0//EN
CALSCALE:GREGORIAN
METHOD:PUBLISH
X-WR-CALNAME:skghagen.de
X-ORIGINAL-URL:https://skghagen.de
X-WR-CALDESC:Veranstaltungen für skghagen.de
REFRESH-INTERVAL;VALUE=DURATION:PT1H
X-Robots-Tag:noindex
X-PUBLISHED-TTL:PT1H
BEGIN:VTIMEZONE
TZID:Europe/Berlin
BEGIN:DAYLIGHT
TZOFFSETFROM:+0100
TZOFFSETTO:+0200
TZNAME:CEST
DTSTART:20220327T010000
END:DAYLIGHT
BEGIN:STANDARD
TZOFFSETFROM:+0200
TZOFFSETTO:+0100
TZNAME:CET
DTSTART:20221030T010000
END:STANDARD
END:VTIMEZONE
BEGIN:VEVENT
DTSTART;TZID=Europe/Berlin:20221001T120000
DTEND;TZID=Europe/Berlin:20221001T120000
DTSTAMP:20260422T145812
CREATED:20220916T113955Z
LAST-MODIFIED:20220916T113955Z
UID:10852-1664625600-1664625600@skghagen.de
SUMMARY:Mittagsandacht
DESCRIPTION:
URL:https://skghagen.de/termin/mittagsandacht-51/
LOCATION:Johanniskirche\, Frankfurter Straße 100\, 58095\, Hagen\, Frankfurter Str. 100\, Hagen\, NRW\, 58095\, Deutschland
CATEGORIES:Gottesdienst
END:VEVENT
BEGIN:VEVENT
DTSTART;TZID=Europe/Berlin:20221001T190000
DTEND;TZID=Europe/Berlin:20221001T203000
DTSTAMP:20260422T145812
CREATED:20220905T233055Z
LAST-MODIFIED:20220930T235646Z
UID:10805-1664650800-1664656200@skghagen.de
SUMMARY:Kammerchor Elberfeld e.V. aus Wuppertal
DESCRIPTION:„Missa Dei Patris“ von Jan Dismas Zelenka in HagenKammerchor Elberfeld aus Wuppertal am 01.10.2022 zu Gast in der JohanniskircheMit der lange in Vergessenheit geratenen Messe für vierstimmigen Chor\, Soli und Orchester von Jan Dismas Zelenka (1679 – 1745) gastiert der Wuppertaler Kammerchor Elberfeld unter Leitung von Georg Leisse am 01. Oktober\, 19 Uhr\, in der Ev. Johanniskirche in Hagen-Mitte.Als Solisten sind Anna Herbst (Sopran)\, Juliane Bogner (Alt)\, Nik Loosli (Tenor) und Konstantin Paganetti (Bass) zu hören. Die Begleitung auf historischen Instrumtenten übernimmt das Concerto con Anima mit seiner Konzertmeisterin Ingeborg Scheerer.Karten zu 15 Euro bzw. 8 Euro erm. gibt es im Vorverkauf (zzgl. 10% Vorverkaufsgebühren) bei der Touristinformation\, Mittelstraße 12 und an der Abendkasse.Ausführliche Informationen über den Kammerchor Elberfeld auf www.kammerchor-elberfeld.de.
URL:https://skghagen.de/termin/kammerchor-elberfeld-e-v-aus-wuppertal/
LOCATION:Johanniskirche\, Frankfurter Straße 100\, 58095\, Hagen\, Frankfurter Str. 100\, Hagen\, NRW\, 58095\, Deutschland
CATEGORIES:Konzert,Kultur
ATTACH;FMTTYPE=image/jpeg:https://skghagen.de/wp-content/uploads/2022/09/01-Kammerchor-Elberfeld_Foto-Klaus-Heitkamp-scaled.jpg
END:VEVENT
END:VCALENDAR