BEGIN:VCALENDAR
VERSION:2.0
PRODID:-//skghagen.de - ECPv6.2.1//NONSGML v1.0//EN
CALSCALE:GREGORIAN
METHOD:PUBLISH
X-WR-CALNAME:skghagen.de
X-ORIGINAL-URL:https://skghagen.de
X-WR-CALDESC:Veranstaltungen für skghagen.de
REFRESH-INTERVAL;VALUE=DURATION:PT1H
X-Robots-Tag:noindex
X-PUBLISHED-TTL:PT1H
BEGIN:VTIMEZONE
TZID:Europe/Berlin
BEGIN:DAYLIGHT
TZOFFSETFROM:+0100
TZOFFSETTO:+0200
TZNAME:CEST
DTSTART:20220327T010000
END:DAYLIGHT
BEGIN:STANDARD
TZOFFSETFROM:+0200
TZOFFSETTO:+0100
TZNAME:CET
DTSTART:20221030T010000
END:STANDARD
END:VTIMEZONE
BEGIN:VEVENT
DTSTART;TZID=Europe/Berlin:20221008T110000
DTEND;TZID=Europe/Berlin:20221008T110000
DTSTAMP:20260422T162053
CREATED:20220916T115703Z
LAST-MODIFIED:20220916T120601Z
UID:10856-1665226800-1665226800@skghagen.de
SUMMARY:Mittagsandacht mit Matinee
DESCRIPTION:zu Gast: Ludger Schmidt (Violoncello)\nKreuzweg für Cellosolo und Klangmaschinen\nEine musikalische Auseinandersetzung zum Thema Leid\, Verrohung und Empathie. Inspiriert vom\nMatthäusevangelium und der Geschichte Judas Iskariots blickt Cellist und Komponist Ludger\nSchmidt mit seinem neuen Werk auf das ambivalente Verhalten der Menschheit und unser Streben\nnach einer humanistischeren Gesellschaft. Seine Komposition wird umrahmt und kontrastiert von\nder zeitlosen fünften Suite für Cello Solo von Johann Sebastian Bach.
URL:https://skghagen.de/termin/mittagsandacht-mit-matinee-29/
LOCATION:Johanniskirche\, Frankfurter Straße 100\, 58095\, Hagen\, Frankfurter Str. 100\, Hagen\, NRW\, 58095\, Deutschland
CATEGORIES:Andacht,Konzert
ATTACH;FMTTYPE=image/jpeg:https://skghagen.de/wp-content/uploads/2022/09/10-08-Ludger-Schmidt_Foto-Ernst-Luc-scaled.jpg
END:VEVENT
BEGIN:VEVENT
DTSTART;TZID=Europe/Berlin:20221008T183000
DTEND;TZID=Europe/Berlin:20221008T200000
DTSTAMP:20260422T162053
CREATED:20220912T110346Z
LAST-MODIFIED:20220912T110346Z
UID:10816-1665253800-1665259200@skghagen.de
SUMMARY:Konzert mit Roland Pröll und Gästen
DESCRIPTION:spanische Musik – VIOLONCELO und PIANO \nRamón Gómez\, Violoncello – Pilar Valero\, Piano
URL:https://skghagen.de/termin/konzert-mit-roland-proell-und-gaesten/
LOCATION:Johanniskirche\, Frankfurter Straße 100\, 58095\, Hagen\, Frankfurter Str. 100\, Hagen\, NRW\, 58095\, Deutschland
CATEGORIES:Konzert,Kultur
ATTACH;FMTTYPE=image/jpeg:https://skghagen.de/wp-content/uploads/2022/09/08-Image-3.jpg
END:VEVENT
END:VCALENDAR