BEGIN:VCALENDAR
VERSION:2.0
PRODID:-//skghagen.de - ECPv6.2.1//NONSGML v1.0//EN
CALSCALE:GREGORIAN
METHOD:PUBLISH
X-WR-CALNAME:skghagen.de
X-ORIGINAL-URL:https://skghagen.de
X-WR-CALDESC:Veranstaltungen für skghagen.de
REFRESH-INTERVAL;VALUE=DURATION:PT1H
X-Robots-Tag:noindex
X-PUBLISHED-TTL:PT1H
BEGIN:VTIMEZONE
TZID:Europe/Berlin
BEGIN:DAYLIGHT
TZOFFSETFROM:+0100
TZOFFSETTO:+0200
TZNAME:CEST
DTSTART:20240331T010000
END:DAYLIGHT
BEGIN:STANDARD
TZOFFSETFROM:+0200
TZOFFSETTO:+0100
TZNAME:CET
DTSTART:20241027T010000
END:STANDARD
END:VTIMEZONE
BEGIN:VEVENT
DTSTART;TZID=Europe/Berlin:20240228T180000
DTEND;TZID=Europe/Berlin:20240228T183000
DTSTAMP:20260422T132500
CREATED:20240129T231022Z
LAST-MODIFIED:20240218T231124Z
UID:12394-1709143200-1709145000@skghagen.de
SUMMARY:3. Fastenandacht
DESCRIPTION:7 WOCHEN OHNE – Die Fastenaktion der evangelischen Kirche KOMM RÜBER! Sieben Wochen ohne Alleingänge mit Gudrun Emmelius
URL:https://skghagen.de/termin/3-fastenandacht-3/
LOCATION:Markuskirche\, Rheinstraße 26\, 58097\, Hagen\, Rheinstr. 26\, Hagen\, NRW\, 58097\, Germany
CATEGORIES:Andacht
END:VEVENT
END:VCALENDAR