BEGIN:VCALENDAR
VERSION:2.0
PRODID:-//skghagen.de - ECPv6.2.1//NONSGML v1.0//EN
CALSCALE:GREGORIAN
METHOD:PUBLISH
X-WR-CALNAME:skghagen.de
X-ORIGINAL-URL:https://skghagen.de
X-WR-CALDESC:Veranstaltungen für skghagen.de
REFRESH-INTERVAL;VALUE=DURATION:PT1H
X-Robots-Tag:noindex
X-PUBLISHED-TTL:PT1H
BEGIN:VTIMEZONE
TZID:Europe/Berlin
BEGIN:DAYLIGHT
TZOFFSETFROM:+0100
TZOFFSETTO:+0200
TZNAME:CEST
DTSTART:20240331T010000
END:DAYLIGHT
BEGIN:STANDARD
TZOFFSETFROM:+0200
TZOFFSETTO:+0100
TZNAME:CET
DTSTART:20241027T010000
END:STANDARD
END:VTIMEZONE
BEGIN:VEVENT
DTSTART;TZID=Europe/Berlin:20240310T170000
DTEND;TZID=Europe/Berlin:20240310T180000
DTSTAMP:20260422T132617
CREATED:20240212T235511Z
LAST-MODIFIED:20240218T231124Z
UID:12416-1710090000-1710093600@skghagen.de
SUMMARY:zentraler Gottesdienst mit Abendmahl\, Musik von Johann Sebastian Bach und Tanz
DESCRIPTION:Gestaltet wird der Gottesdienst von Thomas Rechenberg\, Krankenhausseelsorger im Gemeinschaftskrankenhaus in Herdecke\, Emmanuel Rechenberg\, Eurythmist aus Bonn\, und Maria Hinsenkamp\, Vikarin in der Stadtkirchengemeinde Hagen. Der Gottesdienst findet als zentraler Gottesdienst am 10.3.2024 um 17:00 Uhr in der Johanniskirche mit anschließendem Empfang statt.
URL:https://skghagen.de/termin/zentraler-gottesdienst-mit-abendmahl-musik-von-johann-sebastian-bach-und-tanz/
LOCATION:Johanniskirche\, Frankfurter Straße 100\, 58095\, Hagen\, Frankfurter Str. 100\, Hagen\, NRW\, 58095\, Deutschland
CATEGORIES:Gottesdienst
END:VEVENT
END:VCALENDAR