BEGIN:VCALENDAR
VERSION:2.0
PRODID:-//skghagen.de - ECPv6.2.1//NONSGML v1.0//EN
CALSCALE:GREGORIAN
METHOD:PUBLISH
X-WR-CALNAME:skghagen.de
X-ORIGINAL-URL:https://skghagen.de
X-WR-CALDESC:Veranstaltungen für skghagen.de
REFRESH-INTERVAL;VALUE=DURATION:PT1H
X-Robots-Tag:noindex
X-PUBLISHED-TTL:PT1H
BEGIN:VTIMEZONE
TZID:Europe/Berlin
BEGIN:DAYLIGHT
TZOFFSETFROM:+0100
TZOFFSETTO:+0200
TZNAME:CEST
DTSTART:20240331T010000
END:DAYLIGHT
BEGIN:STANDARD
TZOFFSETFROM:+0200
TZOFFSETTO:+0100
TZNAME:CET
DTSTART:20241027T010000
END:STANDARD
END:VTIMEZONE
BEGIN:VEVENT
DTSTART;TZID=Europe/Berlin:20240329T110000
DTEND;TZID=Europe/Berlin:20240329T120000
DTSTAMP:20260422T132510
CREATED:20240326T085829Z
LAST-MODIFIED:20240328T231010Z
UID:12465-1711710000-1711713600@skghagen.de
SUMMARY:Karfreitag - Gottesdienst
DESCRIPTION:
URL:https://skghagen.de/termin/karfreitag-gottesdienst-2/
LOCATION:Johanniskirche\, Frankfurter Straße 100\, 58095\, Hagen\, Frankfurter Str. 100\, Hagen\, NRW\, 58095\, Deutschland
CATEGORIES:Gottesdienst
END:VEVENT
BEGIN:VEVENT
DTSTART;TZID=Europe/Berlin:20240329T150000
DTEND;TZID=Europe/Berlin:20240329T160000
DTSTAMP:20260422T132510
CREATED:20240326T085829Z
LAST-MODIFIED:20240328T231011Z
UID:12466-1711724400-1711728000@skghagen.de
SUMMARY:Karfreitag - Andacht zur Sterbestunde
DESCRIPTION:
URL:https://skghagen.de/termin/karfreitag-andacht-zur-sterbestunde/
LOCATION:Markuskirche\, Rheinstraße 26\, 58097\, Hagen\, Rheinstr. 26\, Hagen\, NRW\, 58097\, Germany
CATEGORIES:Andacht
END:VEVENT
END:VCALENDAR