BEGIN:VCALENDAR
VERSION:2.0
PRODID:-//skghagen.de - ECPv6.2.1//NONSGML v1.0//EN
CALSCALE:GREGORIAN
METHOD:PUBLISH
X-WR-CALNAME:skghagen.de
X-ORIGINAL-URL:https://skghagen.de
X-WR-CALDESC:Veranstaltungen für skghagen.de
REFRESH-INTERVAL;VALUE=DURATION:PT1H
X-Robots-Tag:noindex
X-PUBLISHED-TTL:PT1H
BEGIN:VTIMEZONE
TZID:Europe/Berlin
BEGIN:DAYLIGHT
TZOFFSETFROM:+0100
TZOFFSETTO:+0200
TZNAME:CEST
DTSTART:20240331T010000
END:DAYLIGHT
BEGIN:STANDARD
TZOFFSETFROM:+0200
TZOFFSETTO:+0100
TZNAME:CET
DTSTART:20241027T010000
END:STANDARD
END:VTIMEZONE
BEGIN:VEVENT
DTSTART;TZID=Europe/Berlin:20240524T150000
DTEND;TZID=Europe/Berlin:20240524T170000
DTSTAMP:20260424T165352
CREATED:20240424T231124Z
LAST-MODIFIED:20240523T234005Z
UID:12570-1716562800-1716570000@skghagen.de
SUMMARY:Freitagscafé
DESCRIPTION:DAS FREITAGSCAFÉ LÄDT EIN …….zu Waffelnachmittagen!Für die ganze Gemeinde……Waffeln und Kirschen\, Sahne und Eis\, Kaffee und Kaltgetränke.Für fast umsonst!Das Team freut sich über Spenden.
URL:https://skghagen.de/termin/freitagscafe-9/
LOCATION:Markuskirche\, Rheinstraße 26\, 58097\, Hagen\, Rheinstr. 26\, Hagen\, NRW\, 58097\, Germany
END:VEVENT
BEGIN:VEVENT
DTSTART;TZID=Europe/Berlin:20240524T193000
DTEND;TZID=Europe/Berlin:20240524T210000
DTSTAMP:20260424T165352
CREATED:20240521T122557Z
LAST-MODIFIED:20240521T122557Z
UID:12620-1716579000-1716584400@skghagen.de
SUMMARY:wieder zu Gast in der Johanniskirche: Das WestDeutscheTanztheater - wir freuen uns
DESCRIPTION:VORTEX ist eine kraftvolle Tanz-Performance\, die die Authentizität eines Individuums in den Fokus rückt. Es präsentiert einen emotionalen Wirbelwind jedes Einzelnen\, der aus persönlichen Erfahrungen und Emotionen entsteht. Die Kreation erforscht Themen wie Identitätsbildung\, Geschlecht\, Sehnsucht nach Zugehörigkeit und Verbindung zu anderen in Bezug auf Stereotypen in unserer Gesellschaft. Gleichzeitig thematisiert sie die Einsamkeit\, die viele Menschen in der modernen Welt erleben\, sowie die distanzierten und systematischen Kommunikationsmittel\, die von den Medien genutzt werden.\n\n\nProduktion: WDTanztheater\n\n\n\nRegisseur\, Choreograf\, Text\, Kostüme\, Kameraarbeit & Design: Sagí Amir Gros\nKameramann: Michael Maurissens  | Tänzer:innen: Gaizka Morales\, Kaho Goto\, Kyoko Oku\nProduktionsleiter & Manager: Jozsef Csaba Hajzer | Foto: Rouven Lotz \nUnterstützt durch: tanzfaktur\nGefördert durch: Kulturamt Köln\, Stichting GrossDanceCompany Amsterdam\, NRW Landesbüro Tanz\, NRW Landesbüro Freie Darstellende Künste\, Johanniskirche Hagen.
URL:https://skghagen.de/termin/wieder-zu-gast-in-der-johanniskirche-das-westdeutschetanztheater-wir-freuen-uns/
LOCATION:Johanniskirche\, Frankfurter Straße 100\, 58095\, Hagen
CATEGORIES:Kultur,Veranstaltung
ATTACH;FMTTYPE=image/jpeg:https://skghagen.de/wp-content/uploads/2024/05/image01.jpeg
END:VEVENT
BEGIN:VEVENT
DTSTART;TZID=Europe/Berlin:20240524T193000
DTEND;TZID=Europe/Berlin:20240524T210000
DTSTAMP:20260424T165352
CREATED:20240521T234011Z
LAST-MODIFIED:20240523T234006Z
UID:12626-1716579000-1716584400@skghagen.de
SUMMARY:Tanztheater - zu Gast ist das WDTanztheater
DESCRIPTION:VORTEX ist eine kraftvolle Tanz-Performance\, die die Authentizität eines Individuums in den Fokus rückt. Es präsentiert einen emotionalen Wirbelwind jedes Einzelnen\, der aus persönlichen Erfahrungen und Emotionen entsteht. Die Kreation erforscht Themen wie Identitätsbildung\, Geschlecht\, Sehnsucht nach Zugehörigkeit und Verbindung zu anderen in Bezug auf Stereotypen in unserer Gesellschaft. Gleichzeitig thematisiert sie die Einsamkeit\, die viele Menschen in der modernen Welt erleben\, sowie die distanzierten und systematischen Kommunikationsmittel\, die von den Medien genutzt werden.     Produktion: WDTanztheater    Regisseur\, Choreograf\, Text\, Kostüme\, Kameraarbeit & Design: Sagí Amir Gros    Kameramann: Michael Maurissens  | Tänzer:innen: Gaizka Morales\, Kaho Goto\, Kyoko Oku      Produktionsleiter & Manager: Jozsef Csaba Hajzer | Foto: Rouven Lotz     Unterstützt durch: tanzfaktur    Gefördert durch: Kulturamt Köln\, Stichting GrossDanceCompany Amsterdam\, NRW Landesbüro Tanz\, NRW Landesbüro Freie Darstellende Künste\, Johanniskirche Hagen.
URL:https://skghagen.de/termin/tanztheater-zu-gast-ist-das-wdtanztheater/
LOCATION:Johanniskirche\, Frankfurter Straße 100\, 58095\, Hagen\, Frankfurter Str. 100\, Hagen\, NRW\, 58095\, Deutschland
END:VEVENT
END:VCALENDAR