BEGIN:VCALENDAR
VERSION:2.0
PRODID:-//skghagen.de - ECPv6.2.1//NONSGML v1.0//EN
CALSCALE:GREGORIAN
METHOD:PUBLISH
X-WR-CALNAME:skghagen.de
X-ORIGINAL-URL:https://skghagen.de
X-WR-CALDESC:Veranstaltungen für skghagen.de
REFRESH-INTERVAL;VALUE=DURATION:PT1H
X-Robots-Tag:noindex
X-PUBLISHED-TTL:PT1H
BEGIN:VTIMEZONE
TZID:Europe/Berlin
BEGIN:DAYLIGHT
TZOFFSETFROM:+0100
TZOFFSETTO:+0200
TZNAME:CEST
DTSTART:20240331T010000
END:DAYLIGHT
BEGIN:STANDARD
TZOFFSETFROM:+0200
TZOFFSETTO:+0100
TZNAME:CET
DTSTART:20241027T010000
END:STANDARD
END:VTIMEZONE
BEGIN:VEVENT
DTSTART;TZID=Europe/Berlin:20240525T110000
DTEND;TZID=Europe/Berlin:20240525T120000
DTSTAMP:20260424T125218
CREATED:20240425T231121Z
LAST-MODIFIED:20240524T234006Z
UID:12579-1716634800-1716638400@skghagen.de
SUMMARY:Matinee mit Martin Brödemann
DESCRIPTION:Maurice Ravel und die wundervolle Welt der Mechanikmit Martin Brödemann am FlügelMaurice Ravel gilt als einer der bedeutendsten französischen Komponisten seiner Zeit und genießt auch heute noch große Popularität. Dennoch lebte er zeitweilig eher zurückgezogen und einige Details seiner Lebensumstände bleiben verborgen. Bekannt ist\, dass der zeitlebens alleinstehende Komponist in einem kleinen Haus seine Arbeit vorzugsweise nachts verrichtete. Sein Werk zeichnet sich durch Raffinesse und Genauigkeit aus. Überliefert ist\, dass er ein Sammler mechanischer Spieluhren war. Diese Faszination für die Wunder der Mechanik ist auch in seiner Musik zu hören. Seine Kompositionen sind voller filigraner Präzision und Meisterwerke in vorwiegend heller Farbgebung\, auch bei melancholischem Charakter. Pianist Martin Brödemann kombiniert in diesem Programm Werke des französischen Meisters mit eigenen Kompositionen.
URL:https://skghagen.de/termin/matinee-mit-martin-broedemann-3/
LOCATION:Johanniskirche\, Frankfurter Straße 100\, 58095\, Hagen\, Frankfurter Str. 100\, Hagen\, NRW\, 58095\, Deutschland
END:VEVENT
BEGIN:VEVENT
DTSTART;TZID=Europe/Berlin:20240525T120000
DTEND;TZID=Europe/Berlin:20240525T121500
DTSTAMP:20260424T125218
CREATED:20240425T231122Z
LAST-MODIFIED:20240524T234006Z
UID:12580-1716638400-1716639300@skghagen.de
SUMMARY:im Anschluss - Mittagsandacht
DESCRIPTION:
URL:https://skghagen.de/termin/im-anschluss-mittagsandacht-5/
LOCATION:Johanniskirche\, Frankfurter Straße 100\, 58095\, Hagen\, Frankfurter Str. 100\, Hagen\, NRW\, 58095\, Deutschland
CATEGORIES:Andacht
END:VEVENT
END:VCALENDAR