BEGIN:VCALENDAR
VERSION:2.0
PRODID:-//skghagen.de - ECPv6.2.1//NONSGML v1.0//EN
CALSCALE:GREGORIAN
METHOD:PUBLISH
X-ORIGINAL-URL:https://skghagen.de
X-WR-CALDESC:Veranstaltungen für skghagen.de
REFRESH-INTERVAL;VALUE=DURATION:PT1H
X-Robots-Tag:noindex
X-PUBLISHED-TTL:PT1H
BEGIN:VTIMEZONE
TZID:Europe/Berlin
BEGIN:DAYLIGHT
TZOFFSETFROM:+0100
TZOFFSETTO:+0200
TZNAME:CEST
DTSTART:20240331T010000
END:DAYLIGHT
BEGIN:STANDARD
TZOFFSETFROM:+0200
TZOFFSETTO:+0100
TZNAME:CET
DTSTART:20241027T010000
END:STANDARD
END:VTIMEZONE
BEGIN:VEVENT
DTSTART;TZID=Europe/Berlin:20240608T110000
DTEND;TZID=Europe/Berlin:20240608T120000
DTSTAMP:20260424T125325
CREATED:20240509T232505Z
LAST-MODIFIED:20240607T235615Z
UID:12606-1717844400-1717848000@skghagen.de
SUMMARY:Matinee | zu Gast ist Hans-Joachim Heßler
DESCRIPTION:Das Ruhrgebiet und der SüdenKlassische Musik aus Österreich und Bayern war sehr beliebt                                                                                                                                                                    In diesem Konzert mit Organist und Pianist Dr. Hans-Joachim Heßler wird sich alles um die musikalischen Beziehungen des Ruhrgebiets zum deutschsprachigen Süden drehen:                                                                                                                                Noch heute zeugen die vielen Max-Reger-Orgeltage und Festivals im Ruhrgebiet von der Beliebtheit\, die dieser geniale Musiker und Komponist der Romantik in der Region genoss. Dr. Hans-Joachim Heßler wird u.a. dessen Komposition „Träume am Kamin“ zu Gehör bringen\, die der Meister seinem Duisburger Freund\, dem Anwalt Adolf Lentz widmete.                                                                                                             Mit Anton Bruckner steht ein weiterer Meister des 19. Jahrhunderts auf dem Konzertprogramm. Bruckner war einer der bedeutendsten Orgelimprovisatoren der deutschen Romantik. Dr. Hans- Joachim Heßler wird dieses zum Anlass für eigene improvisatorische Gedanken über ein Präludium dieses genialen Musikers nehmen.
URL:https://skghagen.de/termin/matinee-zu-gast-ist-hans-joachim-hessler-2/
LOCATION:Johanniskirche\, Frankfurter Straße 100\, 58095\, Hagen\, Frankfurter Str. 100\, Hagen\, NRW\, 58095\, Deutschland
END:VEVENT
BEGIN:VEVENT
DTSTART;TZID=Europe/Berlin:20240608T120000
DTEND;TZID=Europe/Berlin:20240608T121500
DTSTAMP:20260424T125325
CREATED:20240521T234012Z
LAST-MODIFIED:20240607T235616Z
UID:12628-1717848000-1717848900@skghagen.de
SUMMARY:im Anschluss - Mittagsandacht
DESCRIPTION:
URL:https://skghagen.de/termin/im-anschluss-mittagsandacht-6/
LOCATION:Johanniskirche\, Frankfurter Straße 100\, 58095\, Hagen\, Frankfurter Str. 100\, Hagen\, NRW\, 58095\, Deutschland
CATEGORIES:Andacht
END:VEVENT
END:VCALENDAR