BEGIN:VCALENDAR
VERSION:2.0
PRODID:-//skghagen.de - ECPv6.2.1//NONSGML v1.0//EN
CALSCALE:GREGORIAN
METHOD:PUBLISH
X-ORIGINAL-URL:https://skghagen.de
X-WR-CALDESC:Veranstaltungen für skghagen.de
REFRESH-INTERVAL;VALUE=DURATION:PT1H
X-Robots-Tag:noindex
X-PUBLISHED-TTL:PT1H
BEGIN:VTIMEZONE
TZID:Europe/Berlin
BEGIN:DAYLIGHT
TZOFFSETFROM:+0100
TZOFFSETTO:+0200
TZNAME:CEST
DTSTART:20240331T010000
END:DAYLIGHT
BEGIN:STANDARD
TZOFFSETFROM:+0200
TZOFFSETTO:+0100
TZNAME:CET
DTSTART:20241027T010000
END:STANDARD
END:VTIMEZONE
BEGIN:VEVENT
DTSTART;TZID=Europe/Berlin:20240901T110000
DTEND;TZID=Europe/Berlin:20240901T120000
DTSTAMP:20260424T113104
CREATED:20240806T231006Z
LAST-MODIFIED:20240831T231721Z
UID:12804-1725188400-1725192000@skghagen.de
SUMMARY:Familiengottesdienst
DESCRIPTION:
URL:https://skghagen.de/termin/familiengottesdienst-19/
LOCATION:Markuskirche\, Rheinstraße 26\, 58097\, Hagen\, Rheinstr. 26\, Hagen\, NRW\, 58097\, Germany
CATEGORIES:Gottesdienst
END:VEVENT
BEGIN:VEVENT
DTSTART;TZID=Europe/Berlin:20240901T110000
DTEND;TZID=Europe/Berlin:20240901T151500
DTSTAMP:20260424T113104
CREATED:20240703T153026Z
LAST-MODIFIED:20240703T153026Z
UID:12739-1725188400-1725203700@skghagen.de
SUMMARY:„Music makes the church go round” – Auftaktveranstaltung des neuen Formates in der Johanniskirche
DESCRIPTION:„Wir möchten die Menschen für die moderne Kirchenmusik begeistern“ \n„Music makes the church go round” – zur Auftaktveranstaltung dieses neuen Formates lädt der Evangelische Kirchenkreis Hagen für Sonntag\, 1. September\, ab 11 Uhr in die Johanniskirche am Hagener Markt ein. Der Eintritt ist frei. „Wir möchten die Menschen für die moderne Kirchenmusik begeistern und zum Mitmachen einladen“\, erklärt Popkantor Sven Bergmann das Konzept.  „Die kirchliche Popularmusik ist vielfältig und hochwertig; und sie entsteht auch an vielen Stellen im Evangelischen Kirchenkreis Hagen“\, so der studierte Pianist. „Das möchten wir durch Music makes the church go round hör- und sichtbar machen.“ \nDie Veranstaltung startet mit dem Liedergottesdienst „Durch das Ohr ins Herz“\, bei dem neue Gemeindelieder aus der Feder von Pfarrer Guido Hofmann (Kirchengemeinde Ende) und Popkantor Sven Bergmann präsentiert werden. Superintendent Henning Waskönig wird den Gottesdienst mitgestalten. Nach einer gemeinsamen Mittagspause präsentiert die Bigband Swingsound aus dem sauerländischen Kierspe unter Leitung des professionellen Trompeters Dirk Pawelka ein Programm von Klassikern aus der Swing-Ära über Filmmusik bis hin zu Ohrwürmern aus Rock und Pop. Im Laufe des Nachmittags gibt es mit dem Auftritt des Projektchors Heart2Heart und einigen Solo-Stücken von Michael Finthammer gesangliche Programmpunkte. Außerdem spielen Frank Förster an der Orgel und Popkantor Sven Bergmann am Klavier. Die Veranstaltung endet gegen 15.15 Uhr. \n„Die Facetten von Kirchenmusik sind vielfältig und vor allem auch modern. Das möchten wir zeigen\, dabei Lust auf mehr machen und darüber auch neue Wege der Gemeinschaft gehen“\, sagt Sven Bergmann. „Die verschiedenen Akteurinnen und Akteure werden am 1. September eine Kostprobe von dem geben\, was Kirche musikalisch zu bieten hat.“ \nBildinfo:\nPopkantor Sven Bergmann sagt: „Die kirchliche Popularmusik ist vielfältig und hochwertig; und sie entsteht auch an vielen Stellen im Evangelischen Kirchenkreis Hagen.“ Foto: Kristina Hußmann
URL:https://skghagen.de/termin/music-makes-the-church-go-round-auftaktveranstaltung-des-neuen-formates-in-der-johanniskirche/
LOCATION:Johanniskirche\, Frankfurter Straße 100\, 58095\, Hagen
CATEGORIES:Gemeinschaft,Gottesdienst,Konzert
ATTACH;FMTTYPE=image/jpeg:https://skghagen.de/wp-content/uploads/2024/07/20240901-2024_07-Music-makes-the-church-go-round-scaled.jpeg
END:VEVENT
BEGIN:VEVENT
DTSTART;TZID=Europe/Berlin:20240901T110000
DTEND;TZID=Europe/Berlin:20240901T151500
DTSTAMP:20260424T113104
CREATED:20240802T235507Z
LAST-MODIFIED:20240831T231723Z
UID:12798-1725188400-1725203700@skghagen.de
SUMMARY:„Music makes the church go round” – Auftaktveranstaltung des neuen Formates in der Johanniskirche
DESCRIPTION:„Wir möchten die Menschen für die moderne Kirchenmusik begeistern“„Music makes the church go round” – zur Auftaktveranstaltung dieses neuen Formates lädt der Evangelische Kirchenkreis Hagen für Sonntag\, 1. September\, ab 11 Uhr in die Johanniskirche am Hagener Markt ein. Der Eintritt ist frei. „Wir möchten die Menschen für die moderne Kirchenmusik begeistern und zum Mitmachen einladen“\, erklärt Popkantor Sven Bergmann das Konzept.  „Die kirchliche Popularmusik ist vielfältig und hochwertig; und sie entsteht auch an vielen Stellen im Evangelischen Kirchenkreis Hagen“\, so der studierte Pianist. „Das möchten wir durch Music makes the church go round hör- und sichtbar machen.“                                                            Die Veranstaltung startet mit dem Liedergottesdienst „Durch das Ohr ins Herz“\, bei dem neue Gemeindelieder aus der Feder von Pfarrer Guido Hofmann (Kirchengemeinde Ende) und Popkantor Sven Bergmann präsentiert werden. Superintendent Henning Waskönig wird den Gottesdienst mitgestalten. Nach einer gemeinsamen Mittagspause präsentiert die Bigband Swingsound aus dem sauerländischen Kierspe unter Leitung des professionellen Trompeters Dirk Pawelka ein Programm von Klassikern aus der Swing-Ära über Filmmusik bis hin zu Ohrwürmern aus Rock und Pop. Im Laufe des Nachmittags gibt es mit dem Auftritt des Projektchors Heart2Heart und einigen Solo-Stücken von Michael Finthammer gesangliche Programmpunkte. Außerdem spielen Frank Förster an der Orgel und Popkantor Sven Bergmann am Klavier. Die Veranstaltung endet gegen 15.15 Uhr.                                                                                                            „Die Facetten von Kirchenmusik sind vielfältig und vor allem auch modern. Das möchten wir zeigen\, dabei Lust auf mehr machen und darüber auch neue Wege der Gemeinschaft gehen“\, sagt Sven Bergmann. „Die verschiedenen Akteurinnen und Akteure werden am 1. September eine Kostprobe von dem geben\, was Kirche musikalisch zu bieten hat.“
URL:https://skghagen.de/termin/music-makes-the-church-go-round-auftaktveranstaltung-des-neuen-formates-in-der-johanniskirche-2/
LOCATION:Johanniskirche\, Frankfurter Straße 100\, 58095\, Hagen\, Frankfurter Str. 100\, Hagen\, NRW\, 58095\, Deutschland
END:VEVENT
END:VCALENDAR