BEGIN:VCALENDAR
VERSION:2.0
PRODID:-//skghagen.de - ECPv6.2.1//NONSGML v1.0//EN
CALSCALE:GREGORIAN
METHOD:PUBLISH
X-WR-CALNAME:skghagen.de
X-ORIGINAL-URL:https://skghagen.de
X-WR-CALDESC:Veranstaltungen für skghagen.de
REFRESH-INTERVAL;VALUE=DURATION:PT1H
X-Robots-Tag:noindex
X-PUBLISHED-TTL:PT1H
BEGIN:VTIMEZONE
TZID:Europe/Berlin
BEGIN:DAYLIGHT
TZOFFSETFROM:+0100
TZOFFSETTO:+0200
TZNAME:CEST
DTSTART:20220327T010000
END:DAYLIGHT
BEGIN:STANDARD
TZOFFSETFROM:+0200
TZOFFSETTO:+0100
TZNAME:CET
DTSTART:20221030T010000
END:STANDARD
END:VTIMEZONE
BEGIN:VEVENT
DTSTART;TZID=Europe/Berlin:20220806T120000
DTEND;TZID=Europe/Berlin:20220806T121500
DTSTAMP:20260424T114655
CREATED:20220707T233042Z
LAST-MODIFIED:20220805T234738Z
UID:10625-1659787200-1659788100@skghagen.de
SUMMARY:Mittagsandacht
DESCRIPTION:
URL:https://skghagen.de/termin/mittagsandacht-48/
LOCATION:Johanniskirche\, Frankfurter Straße 100\, 58095\, Hagen\, Frankfurter Str. 100\, Hagen\, NRW\, 58095\, Deutschland
CATEGORIES:Andacht
END:VEVENT
BEGIN:VEVENT
DTSTART;TZID=Europe/Berlin:20220807T110000
DTEND;TZID=Europe/Berlin:20220807T120000
DTSTAMP:20260424T114655
CREATED:20220708T235019Z
LAST-MODIFIED:20220807T000105Z
UID:10628-1659870000-1659873600@skghagen.de
SUMMARY:Gottesdienst
DESCRIPTION:
URL:https://skghagen.de/termin/gottesdienst-45/
LOCATION:Markuskirche\, Rheinstraße 26\, 58097\, Hagen\, Rheinstr. 26\, Hagen\, NRW\, 58097\, Germany
CATEGORIES:Gottesdienst
END:VEVENT
BEGIN:VEVENT
DTSTART;TZID=Europe/Berlin:20220807T110000
DTEND;TZID=Europe/Berlin:20220807T120000
DTSTAMP:20260424T114655
CREATED:20220725T133828Z
LAST-MODIFIED:20220725T133839Z
UID:10661-1659870000-1659873600@skghagen.de
SUMMARY:Ganz in weiß - Freiluftgottesdienst im Volmepark
DESCRIPTION:
URL:https://skghagen.de/termin/ganz-in-weiss-freiluftgottesdienst-im-volmepark/
END:VEVENT
BEGIN:VEVENT
DTSTART;TZID=Europe/Berlin:20220813T110000
DTEND;TZID=Europe/Berlin:20220813T121500
DTSTAMP:20260424T114655
CREATED:20220715T234521Z
LAST-MODIFIED:20220811T234507Z
UID:10640-1660388400-1660392900@skghagen.de
SUMMARY:Mittagsandacht mit Matinee
DESCRIPTION:
URL:https://skghagen.de/termin/mittagsandacht-mit-matinee-25/
LOCATION:Johanniskirche\, Frankfurter Straße 100\, 58095\, Hagen\, Frankfurter Str. 100\, Hagen\, NRW\, 58095\, Deutschland
CATEGORIES:Andacht
END:VEVENT
BEGIN:VEVENT
DTSTART;TZID=Europe/Berlin:20220814T110000
DTEND;TZID=Europe/Berlin:20220814T120000
DTSTAMP:20260424T114655
CREATED:20220715T234522Z
LAST-MODIFIED:20220811T234507Z
UID:10641-1660474800-1660478400@skghagen.de
SUMMARY:Gottesdienst - Abschluss des Workshops 'Sing mit Popkantor Sven Bergmann neue liturgische Lieder'
DESCRIPTION:Predigt: Superintendent Henning Waskönig\, Liturgie: Pfarrerin im Schlaa
URL:https://skghagen.de/termin/gottesdienst-46/
LOCATION:Markuskirche\, Rheinstraße 26\, 58097\, Hagen\, Rheinstr. 26\, Hagen\, NRW\, 58097\, Germany
CATEGORIES:Gottesdienst
END:VEVENT
BEGIN:VEVENT
DTSTART;TZID=Europe/Berlin:20220814T110000
DTEND;TZID=Europe/Berlin:20220814T120000
DTSTAMP:20260424T114655
CREATED:20220715T234522Z
LAST-MODIFIED:20220811T234507Z
UID:10642-1660474800-1660478400@skghagen.de
SUMMARY:Gottesdienst zum Springefest
DESCRIPTION:
URL:https://skghagen.de/termin/gottesdienst-zum-springefest/
LOCATION:Johanniskirche\, Frankfurter Straße 100\, 58095\, Hagen\, Frankfurter Str. 100\, Hagen\, NRW\, 58095\, Deutschland
CATEGORIES:Gottesdienst
END:VEVENT
BEGIN:VEVENT
DTSTART;TZID=Europe/Berlin:20220817T120000
DTEND;TZID=Europe/Berlin:20220817T130000
DTSTAMP:20260424T114655
CREATED:20220728T232210Z
LAST-MODIFIED:20220816T231429Z
UID:10684-1660737600-1660741200@skghagen.de
SUMMARY:Fairer Kaffee-Tag mit Produzentinnen aus Kolumbien
DESCRIPTION:Eine Veranstaltung des AllerWeltHaus Hagen e.V.:Fair gehandelte und nach Biostandard ausgezeichnete Kaffeebohnen stecken im „Hagener Kaffee“. Die Rohstoffe dafür stammen aus dem kolumbianischen Netzwerk Ecolsierra. Die Fairtrade Town Steuerungsgruppe Hagen und Gleichstellungsbeauftragte Sabine Michel begrüßen heute zwei Produzentinnen: Die Kolumbianerinnen Mildred Niebles Jímenez (Qualitätsmanagerin) und Ilba Camacho (Gleichstellungsbeauftragte) besuchen das Hagener Rathaus\, wo sie von Bürgermeister Dr. Hans-Dieter Fischer begrüßt werden. Sie berichten anschließend von 12 bis ca. 13 Uhr in einem Kurzvortrag in der Johanniskirche am Markt über ihre Arbeit\, den Fairen Handel\, Geschlechtergleichstellung und die Folgen des Klimawandels. Danach gibt es in der Taufkapelle einen Imbiss\, Erfrischungen und im besten Falle auch den Hagener Kaffee.
URL:https://skghagen.de/termin/fairer-kaffee-tag-mit-produzentinnen-aus-kolumbien-2/
LOCATION:Johanniskirche\, Frankfurter Straße 100\, 58095\, Hagen\, Frankfurter Str. 100\, Hagen\, NRW\, 58095\, Deutschland
END:VEVENT
BEGIN:VEVENT
DTSTART;TZID=Europe/Berlin:20220819T180000
DTEND;TZID=Europe/Berlin:20220819T190000
DTSTAMP:20260424T114655
CREATED:20220720T233331Z
LAST-MODIFIED:20220818T234721Z
UID:10650-1660932000-1660935600@skghagen.de
SUMMARY:210. Freitagskonzert
DESCRIPTION:Die Bigband SWiNGSOUND stammt aus Kierspe und spielt seit vielen Jahren bereits auf den großen Bühnen. Feurig fetziger Swing mit ausgeklügelten Bläsersätzen und einem präzisen Rhythmus machen die Band aus. Die Klassiker aus den 40ern sind ebenso im Programm wie neue Songs. Die Band steht unter der Leitung von Dirk Pawelka.
URL:https://skghagen.de/termin/210-freitagskonzert-2/
LOCATION:Johanniskirche\, Frankfurter Straße 100\, 58095\, Hagen\, Frankfurter Str. 100\, Hagen\, NRW\, 58095\, Deutschland
END:VEVENT
BEGIN:VEVENT
DTSTART;TZID=Europe/Berlin:20220820T120000
DTEND;TZID=Europe/Berlin:20220820T121500
DTSTAMP:20260424T114655
CREATED:20220721T234739Z
LAST-MODIFIED:20220818T234722Z
UID:10653-1660996800-1660997700@skghagen.de
SUMMARY:Mittagsandacht
DESCRIPTION:
URL:https://skghagen.de/termin/mittagsandacht-49/
LOCATION:Johanniskirche\, Frankfurter Straße 100\, 58095\, Hagen\, Frankfurter Str. 100\, Hagen\, NRW\, 58095\, Deutschland
CATEGORIES:Andacht
END:VEVENT
BEGIN:VEVENT
DTSTART;TZID=Europe/Berlin:20220821T110000
DTEND;TZID=Europe/Berlin:20220821T120000
DTSTAMP:20260424T114655
CREATED:20220723T000414Z
LAST-MODIFIED:20220818T234722Z
UID:10656-1661079600-1661083200@skghagen.de
SUMMARY:Gottesdienst mit KU 7
DESCRIPTION:
URL:https://skghagen.de/termin/gottesdienst-mit-ku-7-8/
LOCATION:Markuskirche\, Rheinstraße 26\, 58097\, Hagen\, Rheinstr. 26\, Hagen\, NRW\, 58097\, Germany
CATEGORIES:Gottesdienst
END:VEVENT
BEGIN:VEVENT
DTSTART;TZID=Europe/Berlin:20220827T110000
DTEND;TZID=Europe/Berlin:20220827T121500
DTSTAMP:20260424T114655
CREATED:20220728T232211Z
LAST-MODIFIED:20220827T000101Z
UID:10685-1661598000-1661602500@skghagen.de
SUMMARY:Mittagsandacht mit Matinee
DESCRIPTION:
URL:https://skghagen.de/termin/mittagsandacht-mit-matinee-27/
LOCATION:Johanniskirche\, Frankfurter Straße 100\, 58095\, Hagen\, Frankfurter Str. 100\, Hagen\, NRW\, 58095\, Deutschland
CATEGORIES:Andacht
END:VEVENT
BEGIN:VEVENT
DTSTART;TZID=Europe/Berlin:20220828T110000
DTEND;TZID=Europe/Berlin:20220828T120000
DTSTAMP:20260424T114655
CREATED:20220729T233900Z
LAST-MODIFIED:20220827T000102Z
UID:10691-1661684400-1661688000@skghagen.de
SUMMARY:Gottesdienst
DESCRIPTION:
URL:https://skghagen.de/termin/gottesdienst-48/
LOCATION:Johanniskirche\, Frankfurter Straße 100\, 58095\, Hagen\, Frankfurter Str. 100\, Hagen\, NRW\, 58095\, Deutschland
CATEGORIES:Gottesdienst
END:VEVENT
END:VCALENDAR